BEGIN:VCALENDAR
VERSION:2.0
PRODID:-//Vernon Health - ECPv6.15.20//NONSGML v1.0//EN
CALSCALE:GREGORIAN
METHOD:PUBLISH
X-WR-CALNAME:Vernon Health
X-ORIGINAL-URL:https://www.vmh.org
X-WR-CALDESC:Events for Vernon Health
REFRESH-INTERVAL;VALUE=DURATION:PT1H
X-Robots-Tag:noindex
X-PUBLISHED-TTL:PT1H
BEGIN:VTIMEZONE
TZID:America/Chicago
BEGIN:DAYLIGHT
TZOFFSETFROM:-0600
TZOFFSETTO:-0500
TZNAME:CDT
DTSTART:20250309T080000
END:DAYLIGHT
BEGIN:STANDARD
TZOFFSETFROM:-0500
TZOFFSETTO:-0600
TZNAME:CST
DTSTART:20251102T070000
END:STANDARD
BEGIN:DAYLIGHT
TZOFFSETFROM:-0600
TZOFFSETTO:-0500
TZNAME:CDT
DTSTART:20260308T080000
END:DAYLIGHT
BEGIN:STANDARD
TZOFFSETFROM:-0500
TZOFFSETTO:-0600
TZNAME:CST
DTSTART:20261101T070000
END:STANDARD
BEGIN:DAYLIGHT
TZOFFSETFROM:-0600
TZOFFSETTO:-0500
TZNAME:CDT
DTSTART:20270314T080000
END:DAYLIGHT
BEGIN:STANDARD
TZOFFSETFROM:-0500
TZOFFSETTO:-0600
TZNAME:CST
DTSTART:20271107T070000
END:STANDARD
END:VTIMEZONE
BEGIN:VEVENT
DTSTART;TZID=America/Chicago:20260718T063000
DTEND;TZID=America/Chicago:20260718T113000
DTSTAMP:20260419T145411
CREATED:20260330T195456Z
LAST-MODIFIED:20260330T200221Z
UID:6355-1784356200-1784374200@www.vmh.org
SUMMARY:12th Annual Benefit Auction – Central WI Produce Auction
DESCRIPTION:Center for Special Children Benefit Auction supporting the program’s operating budget. \n\nBreakfast Buffet: 6:30 AM – 9:00 AM\nAuction: 8:30 AM\nQuilts & Furniture: 11:30 AM
URL:https://www.vmh.org/event/12th-annual-benefit-auction-central-wi-produce-auction/
LOCATION:Central WI Produce Auction\, N14676 County Hwy O\, Withee\, WI\, 54498\, United States
CATEGORIES:Center for Special Children Events
END:VEVENT
END:VCALENDAR